BEGIN:VCALENDAR
VERSION:2.0
PRODID:-//Utah Masonry Council - ECPv6.15.20//NONSGML v1.0//EN
CALSCALE:GREGORIAN
METHOD:PUBLISH
X-WR-CALNAME:Utah Masonry Council
X-ORIGINAL-URL:https://utahmasonrycouncil.org
X-WR-CALDESC:Events for Utah Masonry Council
REFRESH-INTERVAL;VALUE=DURATION:PT1H
X-Robots-Tag:noindex
X-PUBLISHED-TTL:PT1H
BEGIN:VTIMEZONE
TZID:America/Denver
BEGIN:DAYLIGHT
TZOFFSETFROM:-0700
TZOFFSETTO:-0600
TZNAME:MDT
DTSTART:20250309T090000
END:DAYLIGHT
BEGIN:STANDARD
TZOFFSETFROM:-0600
TZOFFSETTO:-0700
TZNAME:MST
DTSTART:20251102T080000
END:STANDARD
BEGIN:DAYLIGHT
TZOFFSETFROM:-0700
TZOFFSETTO:-0600
TZNAME:MDT
DTSTART:20260308T090000
END:DAYLIGHT
BEGIN:STANDARD
TZOFFSETFROM:-0600
TZOFFSETTO:-0700
TZNAME:MST
DTSTART:20261101T080000
END:STANDARD
BEGIN:DAYLIGHT
TZOFFSETFROM:-0700
TZOFFSETTO:-0600
TZNAME:MDT
DTSTART:20270314T090000
END:DAYLIGHT
BEGIN:STANDARD
TZOFFSETFROM:-0600
TZOFFSETTO:-0700
TZNAME:MST
DTSTART:20271107T080000
END:STANDARD
END:VTIMEZONE
BEGIN:VEVENT
DTSTART;VALUE=DATE:20260414
DTEND;VALUE=DATE:20270101
DTSTAMP:20260423T090036
CREATED:20260414T170614Z
LAST-MODIFIED:20260421T171321Z
UID:4132-1776124800-1798761599@utahmasonrycouncil.org
SUMMARY:Architectural Firm Lunch and Learn Request
DESCRIPTION:Bring UMC to your office. Our Lunch & Learn sessions are designed for architects looking to strengthen their knowledge of masonry systems\, detailing\, and performance. Each session is tailored to your team\, offering practical insights you can apply directly to your projects.Schedule at your convenience. CE credits available.  \nPut your request date in on the ticket and Cassie will be in contact to confirm
URL:https://utahmasonrycouncil.org/event/architectural-firm-lunch-and-learn/
CATEGORIES:UMC Events
ATTACH;FMTTYPE=image/png:https://utahmasonrycouncil.org/wp-content/uploads/2026/04/UMC-Architects-Lunch-and-Learn.png
ORGANIZER;CN="Cassie":MAILTO:cassie@utahmasonrycouncil.org
END:VEVENT
END:VCALENDAR