BEGIN:VCALENDAR
VERSION:2.0
PRODID:-//Utah Masonry Council - ECPv6.15.20//NONSGML v1.0//EN
CALSCALE:GREGORIAN
METHOD:PUBLISH
X-WR-CALNAME:Utah Masonry Council
X-ORIGINAL-URL:https://utahmasonrycouncil.org
X-WR-CALDESC:Events for Utah Masonry Council
REFRESH-INTERVAL;VALUE=DURATION:PT1H
X-Robots-Tag:noindex
X-PUBLISHED-TTL:PT1H
BEGIN:VTIMEZONE
TZID:America/Phoenix
BEGIN:STANDARD
TZOFFSETFROM:-0700
TZOFFSETTO:-0700
TZNAME:MST
DTSTART:20240101T000000
END:STANDARD
END:VTIMEZONE
BEGIN:VEVENT
DTSTART;TZID=America/Phoenix:20250516T093000
DTEND;TZID=America/Phoenix:20250516T153000
DTSTAMP:20260423T144659
CREATED:20250413T233204Z
LAST-MODIFIED:20250413T233204Z
UID:2963-1747387800-1747409400@utahmasonrycouncil.org
SUMMARY:Delta Stone Natural Stone Education Day
DESCRIPTION:6702 Browns Canyon Rd Peoa\, Utah
URL:https://utahmasonrycouncil.org/event/delta-stone-natural-stone-education-day/
CATEGORIES:All Events,Industry Events
END:VEVENT
END:VCALENDAR