BEGIN:VCALENDAR
VERSION:2.0
PRODID:-//Utah Masonry Council - ECPv6.15.20//NONSGML v1.0//EN
CALSCALE:GREGORIAN
METHOD:PUBLISH
X-WR-CALNAME:Utah Masonry Council
X-ORIGINAL-URL:https://utahmasonrycouncil.org
X-WR-CALDESC:Events for Utah Masonry Council
REFRESH-INTERVAL;VALUE=DURATION:PT1H
X-Robots-Tag:noindex
X-PUBLISHED-TTL:PT1H
BEGIN:VTIMEZONE
TZID:America/Denver
BEGIN:DAYLIGHT
TZOFFSETFROM:-0700
TZOFFSETTO:-0600
TZNAME:MDT
DTSTART:20250309T090000
END:DAYLIGHT
BEGIN:STANDARD
TZOFFSETFROM:-0600
TZOFFSETTO:-0700
TZNAME:MST
DTSTART:20251102T080000
END:STANDARD
BEGIN:DAYLIGHT
TZOFFSETFROM:-0700
TZOFFSETTO:-0600
TZNAME:MDT
DTSTART:20260308T090000
END:DAYLIGHT
BEGIN:STANDARD
TZOFFSETFROM:-0600
TZOFFSETTO:-0700
TZNAME:MST
DTSTART:20261101T080000
END:STANDARD
BEGIN:DAYLIGHT
TZOFFSETFROM:-0700
TZOFFSETTO:-0600
TZNAME:MDT
DTSTART:20270314T090000
END:DAYLIGHT
BEGIN:STANDARD
TZOFFSETFROM:-0600
TZOFFSETTO:-0700
TZNAME:MST
DTSTART:20271107T080000
END:STANDARD
END:VTIMEZONE
BEGIN:VEVENT
DTSTART;TZID=America/Denver:20260522T173000
DTEND;TZID=America/Denver:20260522T210000
DTSTAMP:20260423T085841
CREATED:20260414T164806Z
LAST-MODIFIED:20260415T160840Z
UID:4126-1779471000-1779483600@utahmasonrycouncil.org
SUMMARY:UMC Apprenticeship Graduation
DESCRIPTION:Join us as we celebrate the next generation of skilled masonry professionals at the Utah Masonry Council Apprenticeship Graduation. \nThis event honors the dedication\, hard work\, and achievements of apprentices who have completed their training and are stepping into the industry with confidence and skill. Come support these individuals as they reach this important milestone and help us recognize the future of masonry. \nAll members\, industry partners\, families\, and supporters are welcome. \nLet’s celebrate the craftsmanship\, commitment\, and future of masonry—together.
URL:https://utahmasonrycouncil.org/event/umc-apprenticeship-graduation/
LOCATION:Hilton Salt Lake City Center\, 255 South West Temple\, 255 South West Temple\, UT\, 84101\, United States
CATEGORIES:UMC Events
ATTACH;FMTTYPE=image/png:https://utahmasonrycouncil.org/wp-content/uploads/2026/04/UMC-2026-Apprenticeship-Graduation-1.png
ORGANIZER;CN="Cassie":MAILTO:cassie@utahmasonrycouncil.org
END:VEVENT
END:VCALENDAR