BEGIN:VCALENDAR
VERSION:2.0
PRODID:-//Utah Masonry Council - ECPv6.15.20//NONSGML v1.0//EN
CALSCALE:GREGORIAN
METHOD:PUBLISH
X-ORIGINAL-URL:https://utahmasonrycouncil.org
X-WR-CALDESC:Events for Utah Masonry Council
REFRESH-INTERVAL;VALUE=DURATION:PT1H
X-Robots-Tag:noindex
X-PUBLISHED-TTL:PT1H
BEGIN:VTIMEZONE
TZID:America/Denver
BEGIN:DAYLIGHT
TZOFFSETFROM:-0700
TZOFFSETTO:-0600
TZNAME:MDT
DTSTART:20240310T090000
END:DAYLIGHT
BEGIN:STANDARD
TZOFFSETFROM:-0600
TZOFFSETTO:-0700
TZNAME:MST
DTSTART:20241103T080000
END:STANDARD
BEGIN:DAYLIGHT
TZOFFSETFROM:-0700
TZOFFSETTO:-0600
TZNAME:MDT
DTSTART:20250309T090000
END:DAYLIGHT
BEGIN:STANDARD
TZOFFSETFROM:-0600
TZOFFSETTO:-0700
TZNAME:MST
DTSTART:20251102T080000
END:STANDARD
BEGIN:DAYLIGHT
TZOFFSETFROM:-0700
TZOFFSETTO:-0600
TZNAME:MDT
DTSTART:20260308T090000
END:DAYLIGHT
BEGIN:STANDARD
TZOFFSETFROM:-0600
TZOFFSETTO:-0700
TZNAME:MST
DTSTART:20261101T080000
END:STANDARD
END:VTIMEZONE
BEGIN:VEVENT
DTSTART;TZID=America/Denver:20251107T180000
DTEND;TZID=America/Denver:20251107T220000
DTSTAMP:20260423T173402
CREATED:20250626T132123Z
LAST-MODIFIED:20251015T144716Z
UID:3328-1762538400-1762552800@utahmasonrycouncil.org
SUMMARY:Excellence in Masonry Design Awards
DESCRIPTION:SAVE THE DATE! \nJoin the Utah Masonry Council for an unforgettable evening celebrating the outstanding craftsmanship\, design\, and collaboration behind Utah’s most impressive masonry projects. The Excellence in Masonry Design Awards honor the architectural firms\, contractors\, and product suppliers whose work exemplifies the beauty\, durability\, and innovation of brick\, block\, and stone construction across the state. \nEnjoy networking\, dinner\, and a showcase of projects that are shaping Utah’s masonry legacy. \nIf you would like overnight accommodations please use this link to book under our room block- \nhttps://www.marriott.com/event-reservations/reservation-link.mi?id=1759437899061&key=GRP&app=resvlink \n\n\n\n \nTickets\nThe numbers below include tickets for this event already in your cart. Clicking “Get Tickets” will allow you to edit any existing attendee information as well as change ticket quantities.\nEIMD Dinner Attendee 2025\nDinner for ONE person\n$120.00\nUnlimited\n\nDecrease ticket quantity for EIMD Dinner Attendee 2025\n–\n\nQuantity \n\n\nIncrease ticket quantity for EIMD Dinner Attendee 2025\n+\n\nDiamond Sponsor\nSponsorship\nIncludes Dinner for EIGHT people\nRefer to Sponsorship Table for more details.\n$5\,000.00\nUnlimited\n\nDecrease ticket quantity for Diamond Sponsor\n–\n\nQuantity \n\n\nIncrease ticket quantity for Diamond Sponsor\n+\n\nPlatinum Sponsor\nSponsorship Includes Dinner for 6 People\nRefer to sponsorship table for more information\n$4\,000.00\nUnlimited\n\nDecrease ticket quantity for Platinum Sponsor\n–\n\nQuantity \n\n\nIncrease ticket quantity for Platinum Sponsor\n+\n\nGold Sponsor\nSponsorship Opportunity\nIncludes dinner for FOUR people.\nRefer to sponsorship table for more information.\n$3\,000.00\nUnlimited\n\nDecrease ticket quantity for Gold Sponsor\n–\n\nQuantity \n\n\nIncrease ticket quantity for Gold Sponsor\n+\n\nSilver Sponsorship\nSponsorship Opportunity Includes dinner for TWO people. Refer to sponsorship table for more information.\n$2\,000.00\nUnlimited\n\nDecrease ticket quantity for Silver Sponsorship\n–\n\nQuantity \n\n\nIncrease ticket quantity for Silver Sponsorship\n+\n\nBronze Sponsorship\nSponsorship Opportunity Includes dinner for ONE person. Refer to sponsorship table for more information.\n$1\,000.00\nUnlimited\n\nDecrease ticket quantity for Bronze Sponsorship\n–\n\nQuantity \n\n\nIncrease ticket quantity for Bronze Sponsorship\n+\n\nCopper Sponsorship\nSponsorship Opportunity. Refer to sponsorship table for more information.\n$500.00\nUnlimited\n\nDecrease ticket quantity for Copper Sponsorship\n–\n\nQuantity \n\n\nIncrease ticket quantity for Copper Sponsorship\n+\n\nAwards Sponsorship\nSponsorship Opportunity. Refer to sponsorship table for more information.\n$1\,000.00\nUnlimited\n\nDecrease ticket quantity for Awards Sponsorship\n–\n\nQuantity \n\n\nIncrease ticket quantity for Awards Sponsorship\n+\n\nWine Table Sponsorship\nSponsorship Opportunity. Refer to sponsorship table for more information.\n$500.00\nUnlimited\n\nDecrease ticket quantity for Wine Table Sponsorship\n–\n\nQuantity \n\n\nIncrease ticket quantity for Wine Table Sponsorship\n+\n\nQuantity:\n0\nTotal:\n$0.00\nGet Tickets
URL:https://utahmasonrycouncil.org/event/excellence-in-masonry-design-awards/
LOCATION:Marriott | City Center | 220 S State St\, Salt Lake City\, UT\, 220 S State St\, Salt Lake City\, Utah\, 84111
CATEGORIES:UMC Events
ATTACH;FMTTYPE=image/png:https://utahmasonrycouncil.org/wp-content/uploads/2025/06/UMC-EIMD-Awards-Save-the-Date.png
ORGANIZER;CN="Cassie":MAILTO:cassie@utahmasonrycouncil.org
END:VEVENT
END:VCALENDAR