BEGIN:VCALENDAR
VERSION:2.0
PRODID:-//Utah Masonry Council - ECPv6.15.20//NONSGML v1.0//EN
CALSCALE:GREGORIAN
METHOD:PUBLISH
X-ORIGINAL-URL:https://utahmasonrycouncil.org
X-WR-CALDESC:Events for Utah Masonry Council
REFRESH-INTERVAL;VALUE=DURATION:PT1H
X-Robots-Tag:noindex
X-PUBLISHED-TTL:PT1H
BEGIN:VTIMEZONE
TZID:America/Denver
BEGIN:DAYLIGHT
TZOFFSETFROM:-0700
TZOFFSETTO:-0600
TZNAME:MDT
DTSTART:20250309T090000
END:DAYLIGHT
BEGIN:STANDARD
TZOFFSETFROM:-0600
TZOFFSETTO:-0700
TZNAME:MST
DTSTART:20251102T080000
END:STANDARD
BEGIN:DAYLIGHT
TZOFFSETFROM:-0700
TZOFFSETTO:-0600
TZNAME:MDT
DTSTART:20260308T090000
END:DAYLIGHT
BEGIN:STANDARD
TZOFFSETFROM:-0600
TZOFFSETTO:-0700
TZNAME:MST
DTSTART:20261101T080000
END:STANDARD
BEGIN:DAYLIGHT
TZOFFSETFROM:-0700
TZOFFSETTO:-0600
TZNAME:MDT
DTSTART:20270314T090000
END:DAYLIGHT
BEGIN:STANDARD
TZOFFSETFROM:-0600
TZOFFSETTO:-0700
TZNAME:MST
DTSTART:20271107T080000
END:STANDARD
END:VTIMEZONE
BEGIN:VEVENT
DTSTART;TZID=America/Denver:20260117T000000
DTEND;TZID=America/Denver:20261231T233000
DTSTAMP:20260423T115358
CREATED:20260118T005228Z
LAST-MODIFIED:20260118T012401Z
UID:3938-1768608000-1798759800@utahmasonrycouncil.org
SUMMARY:Sponsorship Opportunities
DESCRIPTION:Sponsorships & Tickets\nSupport Utah’s masonry industry while gaining visibility with contractors\, architects\, educators\, and industry leaders.Sponsorships may be purchased directly online by selecting the option that best aligns with your goals. \nChoose Your Sponsorship\nSponsorships are organized by level of impact and area of support. Each option functions as a ticketed purchase and includes recognition associated with the selected sponsorship. \nSponsorship Details\n\n\nSponsorships are confirmed upon successful payment \n\n\nRecognition is tied to the specific sponsorship selected at checkout \n\n\nAvailability may vary by event or program \n\n\nSponsorships are offered on a first-come\, first-served basis \n\n\n\nCustom Sponsorships\nLooking for something more tailored? \nOrganizations interested in custom sponsorship packages\, multi-event support\, or bundled opportunities are encouraged to contact UMC directly. \nNeed an Invoice?\nIf you prefer to be invoiced or require payment assistance\, please contact the Utah Masonry Council prior to purchase. \n\nAll sponsorship purchases directly support UMC education\, workforce development\, and industry advocacy initiatives.
URL:https://utahmasonrycouncil.org/event/sponsorship-opportunities/
LOCATION:UT
CATEGORIES:UMC Events
ATTACH;FMTTYPE=image/png:https://utahmasonrycouncil.org/wp-content/uploads/2026/01/UMC-2026-Sponsors-1.png
ORGANIZER;CN="Cassie":MAILTO:cassie@utahmasonrycouncil.org
END:VEVENT
BEGIN:VEVENT
DTSTART;VALUE=DATE:20260202
DTEND;VALUE=DATE:20260307
DTSTAMP:20260423T115358
CREATED:20260121T191800Z
LAST-MODIFIED:20260121T191800Z
UID:3988-1769990400-1772841599@utahmasonrycouncil.org
SUMMARY:CMHA Annual Meeting - Oklahoma
DESCRIPTION:
URL:https://utahmasonrycouncil.org/event/cmha-annual-meeting-oklahoma/
LOCATION:UT
CATEGORIES:Industry Events
END:VEVENT
BEGIN:VEVENT
DTSTART;TZID=America/Denver:20260227T090000
DTEND;TZID=America/Denver:20260227T120000
DTSTAMP:20260423T115358
CREATED:20260128T232700Z
LAST-MODIFIED:20260128T233444Z
UID:4024-1772182800-1772193600@utahmasonrycouncil.org
SUMMARY:Rigging Class
DESCRIPTION:This course explains how to safely secure a load with slings or chains. It will also help you understand and avoid common hazards associated with rigging\n\n\nSafety & Compliance: OSHA regulations (§1926/1910) for safe lifting.\nEquipment Inspection: Proper use of wire rope\, synthetic slings\, and hardware.\nLoad Calculation: Determining center of gravity and weight.\nPractical Skills: Sling angles\, hitches\, and knot tying.\nCommunication: Standard hand and radio signals for crane operations.\n\n 
URL:https://utahmasonrycouncil.org/event/rigging-class/
LOCATION:UT
CATEGORIES:UMC Events
ATTACH;FMTTYPE=image/jpeg:https://utahmasonrycouncil.org/wp-content/uploads/2026/01/rigging.jpg
END:VEVENT
END:VCALENDAR