BEGIN:VCALENDAR
VERSION:2.0
PRODID:-//Utah Masonry Council - ECPv6.15.20//NONSGML v1.0//EN
CALSCALE:GREGORIAN
METHOD:PUBLISH
X-WR-CALNAME:Utah Masonry Council
X-ORIGINAL-URL:https://utahmasonrycouncil.org
X-WR-CALDESC:Events for Utah Masonry Council
REFRESH-INTERVAL;VALUE=DURATION:PT1H
X-Robots-Tag:noindex
X-PUBLISHED-TTL:PT1H
BEGIN:VTIMEZONE
TZID:America/Denver
BEGIN:DAYLIGHT
TZOFFSETFROM:-0700
TZOFFSETTO:-0600
TZNAME:MDT
DTSTART:20250309T090000
END:DAYLIGHT
BEGIN:STANDARD
TZOFFSETFROM:-0600
TZOFFSETTO:-0700
TZNAME:MST
DTSTART:20251102T080000
END:STANDARD
BEGIN:DAYLIGHT
TZOFFSETFROM:-0700
TZOFFSETTO:-0600
TZNAME:MDT
DTSTART:20260308T090000
END:DAYLIGHT
BEGIN:STANDARD
TZOFFSETFROM:-0600
TZOFFSETTO:-0700
TZNAME:MST
DTSTART:20261101T080000
END:STANDARD
BEGIN:DAYLIGHT
TZOFFSETFROM:-0700
TZOFFSETTO:-0600
TZNAME:MDT
DTSTART:20270314T090000
END:DAYLIGHT
BEGIN:STANDARD
TZOFFSETFROM:-0600
TZOFFSETTO:-0700
TZNAME:MST
DTSTART:20271107T080000
END:STANDARD
END:VTIMEZONE
BEGIN:VEVENT
DTSTART;TZID=America/Denver:20260117T000000
DTEND;TZID=America/Denver:20261231T233000
DTSTAMP:20260423T120802
CREATED:20260118T005228Z
LAST-MODIFIED:20260118T012401Z
UID:3938-1768608000-1798759800@utahmasonrycouncil.org
SUMMARY:Sponsorship Opportunities
DESCRIPTION:Sponsorships & Tickets\nSupport Utah’s masonry industry while gaining visibility with contractors\, architects\, educators\, and industry leaders.Sponsorships may be purchased directly online by selecting the option that best aligns with your goals. \nChoose Your Sponsorship\nSponsorships are organized by level of impact and area of support. Each option functions as a ticketed purchase and includes recognition associated with the selected sponsorship. \nSponsorship Details\n\n\nSponsorships are confirmed upon successful payment \n\n\nRecognition is tied to the specific sponsorship selected at checkout \n\n\nAvailability may vary by event or program \n\n\nSponsorships are offered on a first-come\, first-served basis \n\n\n\nCustom Sponsorships\nLooking for something more tailored? \nOrganizations interested in custom sponsorship packages\, multi-event support\, or bundled opportunities are encouraged to contact UMC directly. \nNeed an Invoice?\nIf you prefer to be invoiced or require payment assistance\, please contact the Utah Masonry Council prior to purchase. \n\nAll sponsorship purchases directly support UMC education\, workforce development\, and industry advocacy initiatives.
URL:https://utahmasonrycouncil.org/event/sponsorship-opportunities/
LOCATION:UT
CATEGORIES:UMC Events
ATTACH;FMTTYPE=image/png:https://utahmasonrycouncil.org/wp-content/uploads/2026/01/UMC-2026-Sponsors-1.png
ORGANIZER;CN="Cassie":MAILTO:cassie@utahmasonrycouncil.org
END:VEVENT
BEGIN:VEVENT
DTSTART;VALUE=DATE:20260414
DTEND;VALUE=DATE:20270101
DTSTAMP:20260423T120802
CREATED:20260414T170614Z
LAST-MODIFIED:20260421T171321Z
UID:4132-1776124800-1798761599@utahmasonrycouncil.org
SUMMARY:Architectural Firm Lunch and Learn Request
DESCRIPTION:Bring UMC to your office. Our Lunch & Learn sessions are designed for architects looking to strengthen their knowledge of masonry systems\, detailing\, and performance. Each session is tailored to your team\, offering practical insights you can apply directly to your projects.Schedule at your convenience. CE credits available.  \nPut your request date in on the ticket and Cassie will be in contact to confirm
URL:https://utahmasonrycouncil.org/event/architectural-firm-lunch-and-learn/
LOCATION:UT
CATEGORIES:UMC Events
ATTACH;FMTTYPE=image/png:https://utahmasonrycouncil.org/wp-content/uploads/2026/04/UMC-Architects-Lunch-and-Learn.png
ORGANIZER;CN="Cassie":MAILTO:cassie@utahmasonrycouncil.org
END:VEVENT
BEGIN:VEVENT
DTSTART;TZID=America/Denver:20260428T113000
DTEND;TZID=America/Denver:20260428T123000
DTSTAMP:20260423T120802
CREATED:20260401T222157Z
LAST-MODIFIED:20260421T171239Z
UID:4107-1777375800-1777379400@utahmasonrycouncil.org
SUMMARY:Lunch and Learn | WEBINAR | Navigating Energy Codes to Maximize Thermal Mass
DESCRIPTION:Join us for a WEBINAR – Navigating Energy Codes to Maximize Thermal Mass\n\nThis course examines how concrete masonry’s thermal mass contributes to energy efficiency across a range of climate zones and building types. It describes the role of heat capacity and mass wall behavior in overall thermal performance and outlines how these attributes are addressed within current energy codes. The session reviews prescriptive\, trade-off\, and whole-building performance pathways in ASHRAE 90.1 and the IECC\, highlighting how CMU assemblies are evaluated in each method. The course also presents commonly used compliance tools\, and shows how they support energy-code documentation for mass-wall designs.\n\nObjectives\n1. Evaluate how thermal mass and energy efficiency of CMU assemblies are an important part of sustainable design.\n2. Describe how thermal mass works and how it helps with energy efficiency in both warmer and cooler climates.\n3. Explore how thermal mass is measured and accounted for in the code\, and compare energy code compliance pathways.\n4. Discuss code compliance documentation tools\, what defaults to use to get the most benefits from thermal mass
URL:https://utahmasonrycouncil.org/event/lunch-and-learn-navigating-energy-codes-to-maximize-thermal-mass/
LOCATION:Utah Masonry Council\, 299 S. Main Street\, Salt Lake City\, UT\, 84111\, United States
ATTACH;FMTTYPE=image/png:https://utahmasonrycouncil.org/wp-content/uploads/2026/04/UMC-Continuing-Education.png
ORGANIZER;CN="Cassie":MAILTO:cassie@utahmasonrycouncil.org
END:VEVENT
BEGIN:VEVENT
DTSTART;VALUE=DATE:20260515
DTEND;VALUE=DATE:20260516
DTSTAMP:20260423T120802
CREATED:20260121T192626Z
LAST-MODIFIED:20260121T192626Z
UID:4006-1778803200-1778889599@utahmasonrycouncil.org
SUMMARY:Delta Stone Training Event
DESCRIPTION:
URL:https://utahmasonrycouncil.org/event/delta-stone-training-event/
LOCATION:UT
CATEGORIES:Industry Events
ORGANIZER;CN="Cassie":MAILTO:cassie@utahmasonrycouncil.org
END:VEVENT
BEGIN:VEVENT
DTSTART;TZID=America/Denver:20260519T110000
DTEND;TZID=America/Denver:20260519T123000
DTSTAMP:20260423T120802
CREATED:20260416T173058Z
LAST-MODIFIED:20260423T173550Z
UID:4104-1779188400-1779193800@utahmasonrycouncil.org
SUMMARY:Lunch & Learn | In Person | Climate Responsive Design
DESCRIPTION:Join Us For An In Person Lunch & Learn\nClimate Responsive Design\nDescription\nThis course explores how using concrete masonry units (CMU) in the built environment provides an integrated approach to climate-responsive design by simultaneously addressing three critical sustainability strategies: resilience\, operational energy use\, and embodied carbon reduction. Participants will examine how CMU construction offers inherent solutions to modern building challenges\, from natural disasters and extreme weather events to energy conservation and carbon footprint reduction. The course demonstrates that CMU structures perform beyond code requirements without additional measures\, providing durable\, cost-effective buildings that support community resilience while contributing to low embodied carbon goals. \nObjectives\n\nDescribe architectural versatility of concrete masonry construction and how CMU offers countless colors\, textures\, and finishes.\nSummarize how concrete masonry offers inherent resilience strategies that exceed building code minimums and discuss how concrete masonry can help to redefine affordability by reducing repair and recovery expenses after extreme events.\nInvestigate how concrete masonry’s thermal mass provides energy efficient designs and reduces operational energy use.\nExplore groundbreaking industry research demonstrating concrete masonry’s low embodied carbon and investigate three key factors: lower cement content from unique manufacturing\, accelerated carbon sequestration\, and hollow core design reducing concrete volume.
URL:https://utahmasonrycouncil.org/event/climate-responsive-design/
LOCATION:Utah Masonry Council\, 299 S. Main Street\, Salt Lake City\, UT\, 84111\, United States
CATEGORIES:UMC Events
ATTACH;FMTTYPE=image/png:https://utahmasonrycouncil.org/wp-content/uploads/2026/04/UMC-Continuing-Education.png
ORGANIZER;CN="Cassie":MAILTO:cassie@utahmasonrycouncil.org
END:VEVENT
BEGIN:VEVENT
DTSTART;TZID=America/Denver:20260521T070000
DTEND;TZID=America/Denver:20260522T120000
DTSTAMP:20260423T120802
CREATED:20260401T173509Z
LAST-MODIFIED:20260401T173509Z
UID:4101-1779346800-1779451200@utahmasonrycouncil.org
SUMMARY:OSHA 10
DESCRIPTION:Sign up and receive your OSHA 10 certification
URL:https://utahmasonrycouncil.org/event/osha-10/
LOCATION:UT
ORGANIZER;CN="Cassie":MAILTO:cassie@utahmasonrycouncil.org
END:VEVENT
BEGIN:VEVENT
DTSTART;TZID=America/Denver:20260522T173000
DTEND;TZID=America/Denver:20260522T210000
DTSTAMP:20260423T120802
CREATED:20260414T164806Z
LAST-MODIFIED:20260415T160840Z
UID:4126-1779471000-1779483600@utahmasonrycouncil.org
SUMMARY:UMC Apprenticeship Graduation
DESCRIPTION:Join us as we celebrate the next generation of skilled masonry professionals at the Utah Masonry Council Apprenticeship Graduation. \nThis event honors the dedication\, hard work\, and achievements of apprentices who have completed their training and are stepping into the industry with confidence and skill. Come support these individuals as they reach this important milestone and help us recognize the future of masonry. \nAll members\, industry partners\, families\, and supporters are welcome. \nLet’s celebrate the craftsmanship\, commitment\, and future of masonry—together.
URL:https://utahmasonrycouncil.org/event/umc-apprenticeship-graduation/
LOCATION:Hilton Salt Lake City Center\, 255 South West Temple\, 255 South West Temple\, UT\, 84101\, United States
CATEGORIES:UMC Events
ATTACH;FMTTYPE=image/png:https://utahmasonrycouncil.org/wp-content/uploads/2026/04/UMC-2026-Apprenticeship-Graduation-1.png
ORGANIZER;CN="Cassie":MAILTO:cassie@utahmasonrycouncil.org
END:VEVENT
END:VCALENDAR