BEGIN:VCALENDAR
VERSION:2.0
PRODID:-//Utah Masonry Council - ECPv6.15.20//NONSGML v1.0//EN
CALSCALE:GREGORIAN
METHOD:PUBLISH
X-WR-CALNAME:Utah Masonry Council
X-ORIGINAL-URL:https://utahmasonrycouncil.org
X-WR-CALDESC:Events for Utah Masonry Council
REFRESH-INTERVAL;VALUE=DURATION:PT1H
X-Robots-Tag:noindex
X-PUBLISHED-TTL:PT1H
BEGIN:VTIMEZONE
TZID:America/Phoenix
BEGIN:STANDARD
TZOFFSETFROM:-0700
TZOFFSETTO:-0700
TZNAME:MST
DTSTART:20240101T000000
END:STANDARD
END:VTIMEZONE
BEGIN:VEVENT
DTSTART;VALUE=DATE:20250414
DTEND;VALUE=DATE:20250417
DTSTAMP:20260423T174930
CREATED:20250413T232644Z
LAST-MODIFIED:20250414T001956Z
UID:2955-1744588800-1744847999@utahmasonrycouncil.org
SUMMARY:The Masonry Society Spring Meeting Spokane Washington
DESCRIPTION:
URL:https://utahmasonrycouncil.org/event/the-masonry-society-spring-meeting-spokane-washington/
CATEGORIES:All Events,Industry Events
ORGANIZER;CN="Cassie":MAILTO:cassie@utahmasonrycouncil.org
END:VEVENT
BEGIN:VEVENT
DTSTART;VALUE=DATE:20250401
DTEND;VALUE=DATE:20250702
DTSTAMP:20260423T174930
CREATED:20250410T195213Z
LAST-MODIFIED:20250626T131414Z
UID:2884-1743465600-1751414399@utahmasonrycouncil.org
SUMMARY:Excellence in Masonry Design Project Submissions
DESCRIPTION:Call for Submissions\n\nWe are currently accepting all applications for our 2025 Excellence in Masonry Awards! For more information and to submit your masonry project please visit – 2025 EIMD Awards Page.  \nPlease Use this Link to Submit Your Payment and  Project Application Submission | Cost $100.00 per entry. \n\n\n\n\n\nSave the Date | 2025 Excellence in Masonry Awards and Apprenticeship Dinner\n\nMark your calendars! the EIMD Awards and Apprenticeship dinner will be Friday |  November 7th\, 2025 | 6pm – 10pm |  Marriott  Salt Lake City Center | MORE DETAILS TO COME
URL:https://utahmasonrycouncil.org/event/excellence-in-masonry-design-project-submissions/
CATEGORIES:All Events,UMC Events
ATTACH;FMTTYPE=image/png:https://utahmasonrycouncil.org/wp-content/uploads/2025/06/Social-EIMD.png
ORGANIZER;CN="Cassie":MAILTO:cassie@utahmasonrycouncil.org
END:VEVENT
END:VCALENDAR