BEGIN:VCALENDAR
VERSION:2.0
PRODID:-//Utah Masonry Council - ECPv6.15.20//NONSGML v1.0//EN
CALSCALE:GREGORIAN
METHOD:PUBLISH
X-WR-CALNAME:Utah Masonry Council
X-ORIGINAL-URL:https://utahmasonrycouncil.org
X-WR-CALDESC:Events for Utah Masonry Council
REFRESH-INTERVAL;VALUE=DURATION:PT1H
X-Robots-Tag:noindex
X-PUBLISHED-TTL:PT1H
BEGIN:VTIMEZONE
TZID:America/Denver
BEGIN:DAYLIGHT
TZOFFSETFROM:-0700
TZOFFSETTO:-0600
TZNAME:MDT
DTSTART:20240310T090000
END:DAYLIGHT
BEGIN:STANDARD
TZOFFSETFROM:-0600
TZOFFSETTO:-0700
TZNAME:MST
DTSTART:20241103T080000
END:STANDARD
BEGIN:DAYLIGHT
TZOFFSETFROM:-0700
TZOFFSETTO:-0600
TZNAME:MDT
DTSTART:20250309T090000
END:DAYLIGHT
BEGIN:STANDARD
TZOFFSETFROM:-0600
TZOFFSETTO:-0700
TZNAME:MST
DTSTART:20251102T080000
END:STANDARD
BEGIN:DAYLIGHT
TZOFFSETFROM:-0700
TZOFFSETTO:-0600
TZNAME:MDT
DTSTART:20260308T090000
END:DAYLIGHT
BEGIN:STANDARD
TZOFFSETFROM:-0600
TZOFFSETTO:-0700
TZNAME:MST
DTSTART:20261101T080000
END:STANDARD
END:VTIMEZONE
BEGIN:VTIMEZONE
TZID:America/Phoenix
BEGIN:STANDARD
TZOFFSETFROM:-0700
TZOFFSETTO:-0700
TZNAME:MST
DTSTART:20240101T000000
END:STANDARD
END:VTIMEZONE
BEGIN:VEVENT
DTSTART;TZID=America/Denver:20250925T173000
DTEND;TZID=America/Denver:20250925T200000
DTSTAMP:20260423T175002
CREATED:20250630T144904Z
LAST-MODIFIED:20250630T144904Z
UID:3347-1758821400-1758830400@utahmasonrycouncil.org
SUMMARY:SEA of Utah
DESCRIPTION:
URL:https://utahmasonrycouncil.org/event/sea-of-utah/
CATEGORIES:Industry Events
ORGANIZER;CN="Cassie":MAILTO:cassie@utahmasonrycouncil.org
END:VEVENT
BEGIN:VEVENT
DTSTART;VALUE=DATE:20250919
DTEND;VALUE=DATE:20250920
DTSTAMP:20260423T175002
CREATED:20250804T122140Z
LAST-MODIFIED:20250804T123203Z
UID:3429-1758240000-1758326399@utahmasonrycouncil.org
SUMMARY:Bricklayer 500 and Skills Competition
DESCRIPTION:The Bricklayer 500 is the ultimate test of speed\, skill\, and precision for masons. Competitors go head-to-head to see who can lay the most bricks\, with quality and craftsmanship playing a key role in the final score. Alongside this\, the Skills Competition highlights the talents of apprentices and rising professionals as they showcase their technique\, accuracy\, and dedication to the trade. Together\, these events celebrate the artistry and strength of masonry while inspiring the next generation of skilled craftsmen. \nTO REGISTER FOR  THIS EVENT PLEASE FILL OUT THIS FORM Bricklayer 500 & Skills Competition RegistrationPlease enable JavaScript in your browser to complete this form.Please enable JavaScript in your browser to complete this form.Name *FirstLastCompany *Phone Number *Email *Which event are you participating in? *Bricklayer 500Skills Competition		\n			event you Company\n			\n		\n		T-Shirt Size *SmallMediumLargeXXLargeXXXLargeSubmit
URL:https://utahmasonrycouncil.org/event/bricklayer-500-and-skills-competition/
LOCATION:9780 S 5200 W\, West Jordan\, UT 84088\, Interstate Brick 9780 S 5200 W\, West Jordan\, UT\, 84088\, United States
CATEGORIES:Industry Events
ATTACH;FMTTYPE=image/png:https://utahmasonrycouncil.org/wp-content/uploads/2025/08/UMC-Masonry-Day-1.png
ORGANIZER;CN="Cassie":MAILTO:cassie@utahmasonrycouncil.org
END:VEVENT
BEGIN:VEVENT
DTSTART;VALUE=DATE:20250916
DTEND;VALUE=DATE:20250918
DTSTAMP:20260423T175002
CREATED:20250630T145121Z
LAST-MODIFIED:20250630T145751Z
UID:3349-1757980800-1758153599@utahmasonrycouncil.org
SUMMARY:RAC 5 - Check Off Meeting
DESCRIPTION:
URL:https://utahmasonrycouncil.org/event/rac-5-check-off-meeting/
CATEGORIES:Industry Events
ORGANIZER;CN="Cassie":MAILTO:cassie@utahmasonrycouncil.org
END:VEVENT
BEGIN:VEVENT
DTSTART;VALUE=DATE:20250912
DTEND;VALUE=DATE:20250913
DTSTAMP:20260423T175002
CREATED:20250630T144733Z
LAST-MODIFIED:20250630T144733Z
UID:3344-1757635200-1757721599@utahmasonrycouncil.org
SUMMARY:Structural Engineers Association of Utah - Golf Tournament
DESCRIPTION:
URL:https://utahmasonrycouncil.org/event/structural-engineers-association-of-utah-golf-tournament/
CATEGORIES:Industry Events
ORGANIZER;CN="Cassie":MAILTO:cassie@utahmasonrycouncil.org
END:VEVENT
BEGIN:VEVENT
DTSTART;VALUE=DATE:20250907
DTEND;VALUE=DATE:20250912
DTSTAMP:20260423T175002
CREATED:20250602T163959Z
LAST-MODIFIED:20250605T131544Z
UID:3256-1757203200-1757635199@utahmasonrycouncil.org
SUMMARY:MCAA | MID YEAR MEETING
DESCRIPTION:
URL:https://utahmasonrycouncil.org/event/mcaa-mid-year-meeting/
CATEGORIES:Industry Events
END:VEVENT
BEGIN:VEVENT
DTSTART;VALUE=DATE:20250821
DTEND;VALUE=DATE:20250822
DTSTAMP:20260423T175002
CREATED:20250618T161124Z
LAST-MODIFIED:20250625T150040Z
UID:3299-1755734400-1755820799@utahmasonrycouncil.org
SUMMARY:Masonry Professional Certification
DESCRIPTION:Utah Masonry Council | Masonry Professional Certification – Single ClassTopic: Leadership in the Masonry IndustryDate: August 21Cost: $65 Members | $120 Non-Members \n\nLead with Strength. Build with Purpose.Join us for a focused\, one-day certification course on Leadership tailored specifically for masonry professionals. Learn how to effectively manage crews\, communicate across teams\, and inspire excellence on every job site. Whether you’re a foreman\, contractor\, or aspiring leader\, this class will sharpen your skills and elevate your impact in the field. \n✔️ Boost your confidence as a leader✔️ Gain practical tools for managing people and projects✔️ Earn certification recognized across Utah’s masonry industry \nSpace is limited — register today and take the next step in your professional journey. \nPLEASE USE THIS LINK TO REGISTER AND PAY TO ATTEND THE EVENT.
URL:https://utahmasonrycouncil.org/event/masonry-professional-certification/
CATEGORIES:UMC Events
ATTACH;FMTTYPE=image/png:https://utahmasonrycouncil.org/wp-content/uploads/2025/06/Masonry-Professional-Certification.png
ORGANIZER;CN="Cassie":MAILTO:cassie@utahmasonrycouncil.org
END:VEVENT
BEGIN:VEVENT
DTSTART;VALUE=DATE:20250807
DTEND;VALUE=DATE:20250808
DTSTAMP:20260423T175002
CREATED:20250602T163729Z
LAST-MODIFIED:20250602T164333Z
UID:3251-1754524800-1754611199@utahmasonrycouncil.org
SUMMARY:AIA TopGolf
DESCRIPTION:
URL:https://utahmasonrycouncil.org/event/aia-topgolf/
CATEGORIES:Industry Events
ATTACH;FMTTYPE=image/png:https://utahmasonrycouncil.org/wp-content/uploads/2025/06/Top-Golf-Invite-Sponsors.png
END:VEVENT
BEGIN:VEVENT
DTSTART;VALUE=DATE:20250804
DTEND;VALUE=DATE:20250808
DTSTAMP:20260423T175002
CREATED:20250602T163852Z
LAST-MODIFIED:20250602T164422Z
UID:3254-1754265600-1754611199@utahmasonrycouncil.org
SUMMARY:CMHA Midyear
DESCRIPTION:Naples | Florida \nhttps://www.masonryandhardscapes.org/events/midyear-meeting/
URL:https://utahmasonrycouncil.org/event/cmha-midyear/
CATEGORIES:Industry Events
END:VEVENT
BEGIN:VEVENT
DTSTART;TZID=America/Phoenix:20250718T070000
DTEND;TZID=America/Phoenix:20250718T140000
DTSTAMP:20260423T175002
CREATED:20250410T191940Z
LAST-MODIFIED:20250626T134511Z
UID:2868-1752822000-1752847200@utahmasonrycouncil.org
SUMMARY:2025 Mad About Masonry Annual Golf Tournament
DESCRIPTION:Please fill out 2025 golfer registration below and claim your spot today! Please use this form to register as a golfer \nCICK HERE FOR FORM & PAYMENT \nThank you for your support!
URL:https://utahmasonrycouncil.org/event/mad-about-masonry-annual-golf-tournament/
LOCATION:Wasatch Mountain Golf Course\, 975 Golf Course Drive\, Midway\, UT\, 84049\, United States
ATTACH;FMTTYPE=image/png:https://utahmasonrycouncil.org/wp-content/uploads/2025/06/UMC-Website-Golf-Flyer-1.png
ORGANIZER;CN="Cassie":MAILTO:cassie@utahmasonrycouncil.org
END:VEVENT
BEGIN:VEVENT
DTSTART;VALUE=DATE:20250620
DTEND;VALUE=DATE:20250621
DTSTAMP:20260423T175002
CREATED:20250602T163159Z
LAST-MODIFIED:20250602T163159Z
UID:3247-1750377600-1750463999@utahmasonrycouncil.org
SUMMARY:Interstate Brick Golf Tournament
DESCRIPTION:Interstate Brick 36th Annual Golf Tournament Flyer
URL:https://utahmasonrycouncil.org/event/interstate-brick-golf-tournament/
LOCATION:EAGLEWOOD GOLF COURSE\, 1110 EAGLEWOOD DRIVE\, North Salt Lake\, UT\, 84054\, United States
CATEGORIES:Industry Events
ORGANIZER;CN="Cassie":MAILTO:cassie@utahmasonrycouncil.org
END:VEVENT
BEGIN:VEVENT
DTSTART;TZID=America/Denver:20250610T083000
DTEND;TZID=America/Denver:20250610T110000
DTSTAMP:20260423T175002
CREATED:20250602T162735Z
LAST-MODIFIED:20250602T162735Z
UID:3244-1749544200-1749553200@utahmasonrycouncil.org
SUMMARY:CTE Summer conference Tuesday
DESCRIPTION:
URL:https://utahmasonrycouncil.org/event/cte-summer-conference-tuesday/
CATEGORIES:Industry Events,UMC Events
ORGANIZER;CN="Cassie":MAILTO:cassie@utahmasonrycouncil.org
END:VEVENT
BEGIN:VEVENT
DTSTART;VALUE=DATE:20250602
DTEND;VALUE=DATE:20250605
DTSTAMP:20260423T175002
CREATED:20250413T233432Z
LAST-MODIFIED:20250413T233444Z
UID:2967-1748822400-1749081599@utahmasonrycouncil.org
SUMMARY:Concrete Masonry Technology Course
DESCRIPTION:Sunroc Masonry Bluffdale
URL:https://utahmasonrycouncil.org/event/concrete-masonry-technology-course/
CATEGORIES:All Events,Industry Events
END:VEVENT
BEGIN:VEVENT
DTSTART;VALUE=DATE:20250519
DTEND;VALUE=DATE:20250520
DTSTAMP:20260423T175002
CREATED:20250413T233326Z
LAST-MODIFIED:20250413T233326Z
UID:2965-1747612800-1747699199@utahmasonrycouncil.org
SUMMARY:AIA Golf Tournament Hidden Valley Golf Course
DESCRIPTION:
URL:https://utahmasonrycouncil.org/event/aia-golf-tournament-hidden-valley-golf-course/
CATEGORIES:All Events,Industry Events
END:VEVENT
BEGIN:VEVENT
DTSTART;TZID=America/Phoenix:20250516T093000
DTEND;TZID=America/Phoenix:20250516T153000
DTSTAMP:20260423T175002
CREATED:20250413T233204Z
LAST-MODIFIED:20250413T233204Z
UID:2963-1747387800-1747409400@utahmasonrycouncil.org
SUMMARY:Delta Stone Natural Stone Education Day
DESCRIPTION:6702 Browns Canyon Rd Peoa\, Utah
URL:https://utahmasonrycouncil.org/event/delta-stone-natural-stone-education-day/
CATEGORIES:All Events,Industry Events
END:VEVENT
BEGIN:VEVENT
DTSTART;VALUE=DATE:20250423
DTEND;VALUE=DATE:20250425
DTSTAMP:20260423T175002
CREATED:20250413T230159Z
LAST-MODIFIED:20250414T002241Z
UID:2957-1745366400-1745539199@utahmasonrycouncil.org
SUMMARY:Utah Alliance Spring Meeting
DESCRIPTION:Utah Alliance Spring Meeting\nMill Creek City Hall\nSalt Lake City\, Utah
URL:https://utahmasonrycouncil.org/event/utah-alliance-spring-meeting/
CATEGORIES:All Events,Industry Events
END:VEVENT
BEGIN:VEVENT
DTSTART;VALUE=DATE:20250414
DTEND;VALUE=DATE:20250417
DTSTAMP:20260423T175002
CREATED:20250413T232644Z
LAST-MODIFIED:20250414T001956Z
UID:2955-1744588800-1744847999@utahmasonrycouncil.org
SUMMARY:The Masonry Society Spring Meeting Spokane Washington
DESCRIPTION:
URL:https://utahmasonrycouncil.org/event/the-masonry-society-spring-meeting-spokane-washington/
CATEGORIES:All Events,Industry Events
ORGANIZER;CN="Cassie":MAILTO:cassie@utahmasonrycouncil.org
END:VEVENT
BEGIN:VEVENT
DTSTART;VALUE=DATE:20250401
DTEND;VALUE=DATE:20250702
DTSTAMP:20260423T175002
CREATED:20250410T195213Z
LAST-MODIFIED:20250626T131414Z
UID:2884-1743465600-1751414399@utahmasonrycouncil.org
SUMMARY:Excellence in Masonry Design Project Submissions
DESCRIPTION:Call for Submissions\n\nWe are currently accepting all applications for our 2025 Excellence in Masonry Awards! For more information and to submit your masonry project please visit – 2025 EIMD Awards Page.  \nPlease Use this Link to Submit Your Payment and  Project Application Submission | Cost $100.00 per entry. \n\n\n\n\n\nSave the Date | 2025 Excellence in Masonry Awards and Apprenticeship Dinner\n\nMark your calendars! the EIMD Awards and Apprenticeship dinner will be Friday |  November 7th\, 2025 | 6pm – 10pm |  Marriott  Salt Lake City Center | MORE DETAILS TO COME
URL:https://utahmasonrycouncil.org/event/excellence-in-masonry-design-project-submissions/
CATEGORIES:All Events,UMC Events
ATTACH;FMTTYPE=image/png:https://utahmasonrycouncil.org/wp-content/uploads/2025/06/Social-EIMD.png
ORGANIZER;CN="Cassie":MAILTO:cassie@utahmasonrycouncil.org
END:VEVENT
END:VCALENDAR