BEGIN:VCALENDAR
VERSION:2.0
PRODID:-//Utah Masonry Council - ECPv6.15.20//NONSGML v1.0//EN
CALSCALE:GREGORIAN
METHOD:PUBLISH
X-WR-CALNAME:Utah Masonry Council
X-ORIGINAL-URL:https://utahmasonrycouncil.org
X-WR-CALDESC:Events for Utah Masonry Council
REFRESH-INTERVAL;VALUE=DURATION:PT1H
X-Robots-Tag:noindex
X-PUBLISHED-TTL:PT1H
BEGIN:VTIMEZONE
TZID:America/Denver
BEGIN:DAYLIGHT
TZOFFSETFROM:-0700
TZOFFSETTO:-0600
TZNAME:MDT
DTSTART:20240310T090000
END:DAYLIGHT
BEGIN:STANDARD
TZOFFSETFROM:-0600
TZOFFSETTO:-0700
TZNAME:MST
DTSTART:20241103T080000
END:STANDARD
BEGIN:DAYLIGHT
TZOFFSETFROM:-0700
TZOFFSETTO:-0600
TZNAME:MDT
DTSTART:20250309T090000
END:DAYLIGHT
BEGIN:STANDARD
TZOFFSETFROM:-0600
TZOFFSETTO:-0700
TZNAME:MST
DTSTART:20251102T080000
END:STANDARD
BEGIN:DAYLIGHT
TZOFFSETFROM:-0700
TZOFFSETTO:-0600
TZNAME:MDT
DTSTART:20260308T090000
END:DAYLIGHT
BEGIN:STANDARD
TZOFFSETFROM:-0600
TZOFFSETTO:-0700
TZNAME:MST
DTSTART:20261101T080000
END:STANDARD
END:VTIMEZONE
BEGIN:VEVENT
DTSTART;VALUE=DATE:20250907
DTEND;VALUE=DATE:20250912
DTSTAMP:20260423T185407
CREATED:20250602T163959Z
LAST-MODIFIED:20250605T131544Z
UID:3256-1757203200-1757635199@utahmasonrycouncil.org
SUMMARY:MCAA | MID YEAR MEETING
DESCRIPTION:
URL:https://utahmasonrycouncil.org/event/mcaa-mid-year-meeting/
LOCATION:UT
CATEGORIES:Industry Events
END:VEVENT
BEGIN:VEVENT
DTSTART;VALUE=DATE:20250912
DTEND;VALUE=DATE:20250913
DTSTAMP:20260423T185407
CREATED:20250630T144733Z
LAST-MODIFIED:20250630T144733Z
UID:3344-1757635200-1757721599@utahmasonrycouncil.org
SUMMARY:Structural Engineers Association of Utah - Golf Tournament
DESCRIPTION:
URL:https://utahmasonrycouncil.org/event/structural-engineers-association-of-utah-golf-tournament/
LOCATION:UT
CATEGORIES:Industry Events
ORGANIZER;CN="Cassie":MAILTO:cassie@utahmasonrycouncil.org
END:VEVENT
BEGIN:VEVENT
DTSTART;VALUE=DATE:20250916
DTEND;VALUE=DATE:20250918
DTSTAMP:20260423T185407
CREATED:20250630T145121Z
LAST-MODIFIED:20250630T145751Z
UID:3349-1757980800-1758153599@utahmasonrycouncil.org
SUMMARY:RAC 5 - Check Off Meeting
DESCRIPTION:
URL:https://utahmasonrycouncil.org/event/rac-5-check-off-meeting/
LOCATION:UT
CATEGORIES:Industry Events
ORGANIZER;CN="Cassie":MAILTO:cassie@utahmasonrycouncil.org
END:VEVENT
BEGIN:VEVENT
DTSTART;VALUE=DATE:20250919
DTEND;VALUE=DATE:20250920
DTSTAMP:20260423T185407
CREATED:20250804T122140Z
LAST-MODIFIED:20250804T123203Z
UID:3429-1758240000-1758326399@utahmasonrycouncil.org
SUMMARY:Bricklayer 500 and Skills Competition
DESCRIPTION:The Bricklayer 500 is the ultimate test of speed\, skill\, and precision for masons. Competitors go head-to-head to see who can lay the most bricks\, with quality and craftsmanship playing a key role in the final score. Alongside this\, the Skills Competition highlights the talents of apprentices and rising professionals as they showcase their technique\, accuracy\, and dedication to the trade. Together\, these events celebrate the artistry and strength of masonry while inspiring the next generation of skilled craftsmen. \nTO REGISTER FOR  THIS EVENT PLEASE FILL OUT THIS FORM Bricklayer 500 & Skills Competition RegistrationPlease enable JavaScript in your browser to complete this form.Please enable JavaScript in your browser to complete this form.		\n			in? Name Email\n			\n		\n		Name *FirstLastCompany *Phone Number *Email *Which event are you participating in? *Bricklayer 500Skills CompetitionT-Shirt Size *SmallMediumLargeXXLargeXXXLargeSubmit
URL:https://utahmasonrycouncil.org/event/bricklayer-500-and-skills-competition/
LOCATION:9780 S 5200 W\, West Jordan\, UT 84088\, Interstate Brick 9780 S 5200 W\, West Jordan\, UT\, 84088\, United States
CATEGORIES:Industry Events
ATTACH;FMTTYPE=image/png:https://utahmasonrycouncil.org/wp-content/uploads/2025/08/UMC-Masonry-Day-1.png
ORGANIZER;CN="Cassie":MAILTO:cassie@utahmasonrycouncil.org
END:VEVENT
BEGIN:VEVENT
DTSTART;TZID=America/Denver:20250925T173000
DTEND;TZID=America/Denver:20250925T200000
DTSTAMP:20260423T185407
CREATED:20250630T144904Z
LAST-MODIFIED:20250630T144904Z
UID:3347-1758821400-1758830400@utahmasonrycouncil.org
SUMMARY:SEA of Utah
DESCRIPTION:
URL:https://utahmasonrycouncil.org/event/sea-of-utah/
LOCATION:UT
CATEGORIES:Industry Events
ORGANIZER;CN="Cassie":MAILTO:cassie@utahmasonrycouncil.org
END:VEVENT
BEGIN:VEVENT
DTSTART;TZID=America/Denver:20250926T130000
DTEND;TZID=America/Denver:20250926T160000
DTSTAMP:20260423T185407
CREATED:20250618T144949Z
LAST-MODIFIED:20250902T003816Z
UID:3277-1758891600-1758902400@utahmasonrycouncil.org
SUMMARY:Contractor Mixer
DESCRIPTION:Come connect with fellow industry pros\, meet the Utah Masonry Council Board\, and learn how membership can benefit your business. \nThough this event is free to attend it is required to register. Contractor Mixer Registration FormPlease enable JavaScript in your browser to complete this form.Please enable JavaScript in your browser to complete this form.Name *FirstLastCompany		\n			the Keep will\n			\n		\n		Email *Phone NumberHow will you be participating *Yes\, I am GolfingNo\, Just networkingKeep me in the loopI would like to receive email updates regarding future conferencesComments or QuestionsSubmit
URL:https://utahmasonrycouncil.org/event/contractor-mixer/
LOCATION:Top Golf – Salt Lake City\, 920 Jordan River Blvd\,\, Midvale\, UT\, 84047\, United States
CATEGORIES:UMC Events
ATTACH;FMTTYPE=image/png:https://utahmasonrycouncil.org/wp-content/uploads/2025/06/UMC-Contractor-Mixer.png
ORGANIZER;CN="Cassie":MAILTO:cassie@utahmasonrycouncil.org
END:VEVENT
END:VCALENDAR